Package: TFutils Version: 1.27.1 Command: /Library/Frameworks/R.framework/Resources/bin/R CMD check --install=check:TFutils.install-out.txt --library=/Library/Frameworks/R.framework/Resources/library --no-vignettes --timings TFutils_1.27.1.tar.gz StartedAt: 2025-02-09 21:44:04 -0500 (Sun, 09 Feb 2025) EndedAt: 2025-02-09 21:46:38 -0500 (Sun, 09 Feb 2025) EllapsedTime: 153.9 seconds RetCode: 0 Status: OK CheckDir: TFutils.Rcheck Warnings: 0