Package: TFutils Version: 1.27.1 Command: /Library/Frameworks/R.framework/Resources/bin/R CMD INSTALL TFutils StartedAt: 2025-02-09 15:16:35 -0500 (Sun, 09 Feb 2025) EndedAt: 2025-02-09 15:16:58 -0500 (Sun, 09 Feb 2025) EllapsedTime: 22.7 seconds RetCode: 0 Status: OK