Package: TFutils Version: 1.27.1 Command: /Library/Frameworks/R.framework/Resources/bin/R CMD build --keep-empty-dirs --no-resave-data TFutils StartedAt: 2025-02-12 18:34:29 -0500 (Wed, 12 Feb 2025) EndedAt: 2025-02-12 18:36:34 -0500 (Wed, 12 Feb 2025) EllapsedTime: 125.7 seconds RetCode: 0 Status: OK PackageFile: TFutils_1.27.1.tar.gz PackageFileSize: 6.013 MiB