Package: TFutils Version: 1.27.1 Command: /Library/Frameworks/R.framework/Resources/bin/R CMD INSTALL TFutils StartedAt: 2025-02-12 15:26:20 -0500 (Wed, 12 Feb 2025) EndedAt: 2025-02-12 15:27:35 -0500 (Wed, 12 Feb 2025) EllapsedTime: 74.9 seconds RetCode: 0 Status: OK