Package: TFutils Version: 1.27.1 Command: /home/biocbuild/bbs-3.21-bioc/R/bin/R CMD build --keep-empty-dirs --no-resave-data TFutils StartedAt: 2025-02-09 19:35:08 -0500 (Sun, 09 Feb 2025) EndedAt: 2025-02-09 19:37:07 -0500 (Sun, 09 Feb 2025) EllapsedTime: 119.1 seconds RetCode: 0 Status: OK PackageFile: TFutils_1.27.1.tar.gz PackageFileSize: 5.967 MiB