Package: TFutils Version: 1.27.1 Command: /home/biocbuild/bbs-3.21-bioc/R/bin/R CMD check --install=check:TFutils.install-out.txt --library=/home/biocbuild/bbs-3.21-bioc/R/site-library --timings TFutils_1.27.1.tar.gz StartedAt: 2025-02-10 03:20:00 -0500 (Mon, 10 Feb 2025) EndedAt: 2025-02-10 03:28:10 -0500 (Mon, 10 Feb 2025) EllapsedTime: 490.7 seconds RetCode: 0 Status: OK CheckDir: TFutils.Rcheck Warnings: 0