Package: TFutils Version: 1.27.1 Command: rm -rf TFutils.buildbin-libdir && mkdir TFutils.buildbin-libdir && E:\biocbuild\bbs-3.21-bioc\R\bin\R.exe CMD INSTALL --build --library=TFutils.buildbin-libdir TFutils_1.27.1.tar.gz StartedAt: 2025-02-10 08:52:01 -0500 (Mon, 10 Feb 2025) EndedAt: 2025-02-10 08:53:12 -0500 (Mon, 10 Feb 2025) EllapsedTime: 71.0 seconds RetCode: 0 Status: OK PackageFile: TFutils_1.27.1.zip PackageFileSize: 6.182 MiB