Package: TFutils Version: 1.27.1 Command: chmod a+r TFutils -R && E:\biocbuild\bbs-3.21-bioc\R\bin\R.exe CMD build --keep-empty-dirs --no-resave-data TFutils StartedAt: 2025-02-09 22:04:30 -0500 (Sun, 09 Feb 2025) EndedAt: 2025-02-09 22:06:36 -0500 (Sun, 09 Feb 2025) EllapsedTime: 125.6 seconds RetCode: 0 Status: OK PackageFile: TFutils_1.27.1.tar.gz PackageFileSize: 5.865 MiB