Package: TFutils Version: 1.27.1 Command: E:\biocbuild\bbs-3.21-bioc\R\bin\R.exe CMD check --no-multiarch --install=check:TFutils.install-out.txt --library=E:\biocbuild\bbs-3.21-bioc\R\library --no-vignettes --timings TFutils_1.27.1.tar.gz StartedAt: 2025-02-10 06:09:31 -0500 (Mon, 10 Feb 2025) EndedAt: 2025-02-10 06:17:26 -0500 (Mon, 10 Feb 2025) EllapsedTime: 474.9 seconds RetCode: 0 Status: OK CheckDir: TFutils.Rcheck Warnings: 0