Package: TFutils Version: 1.27.1 Command: E:\biocbuild\bbs-3.21-bioc\R\bin\R.exe CMD INSTALL TFutils StartedAt: 2025-02-09 16:42:48 -0500 (Sun, 09 Feb 2025) EndedAt: 2025-02-09 16:44:08 -0500 (Sun, 09 Feb 2025) EllapsedTime: 80.2 seconds RetCode: 0 Status: OK