Package: TIN Version: 1.39.0 Command: rm -rf TIN.buildbin-libdir && mkdir TIN.buildbin-libdir && /Users/biocbuild/BBS/utils/build-universal.sh TIN_1.39.0.tar.gz /Library/Frameworks/R.framework/Resources/bin/R TIN.buildbin-libdir StartedAt: 2025-02-09 22:33:39 -0500 (Sun, 09 Feb 2025) EndedAt: 2025-02-09 22:33:48 -0500 (Sun, 09 Feb 2025) EllapsedTime: 9.3 seconds RetCode: 0 Status: OK PackageFile: TIN_1.39.0.tgz PackageFileSize: 4.569 MiB