Package: TIN Version: 1.39.0 Command: /home/biocbuild/R/R/bin/R CMD build --keep-empty-dirs --no-resave-data TIN StartedAt: 2025-01-28 02:56:06 -0000 (Tue, 28 Jan 2025) EndedAt: 2025-01-28 02:57:27 -0000 (Tue, 28 Jan 2025) EllapsedTime: 81.0 seconds RetCode: 0 Status: OK PackageFile: TIN_1.39.0.tar.gz PackageFileSize: 4.666 MiB