Package: TIN Version: 1.39.0 Command: /Library/Frameworks/R.framework/Resources/bin/R CMD build --keep-empty-dirs --no-resave-data TIN StartedAt: 2025-02-09 18:44:10 -0500 (Sun, 09 Feb 2025) EndedAt: 2025-02-09 18:45:11 -0500 (Sun, 09 Feb 2025) EllapsedTime: 60.6 seconds RetCode: 0 Status: OK PackageFile: TIN_1.39.0.tar.gz PackageFileSize: 4.593 MiB