Package: TIN Version: 1.39.0 Command: rm -rf TIN.buildbin-libdir && mkdir TIN.buildbin-libdir && E:\biocbuild\bbs-3.21-bioc\R\bin\R.exe CMD INSTALL --build --library=TIN.buildbin-libdir TIN_1.39.0.tar.gz StartedAt: 2025-02-10 08:52:48 -0500 (Mon, 10 Feb 2025) EndedAt: 2025-02-10 08:53:17 -0500 (Mon, 10 Feb 2025) EllapsedTime: 29.7 seconds RetCode: 0 Status: OK PackageFile: TIN_1.39.0.zip PackageFileSize: 4.565 MiB