Package: TMSig Version: 1.1.0 Command: rm -rf TMSig.buildbin-libdir && mkdir TMSig.buildbin-libdir && /Users/biocbuild/BBS/utils/build-universal.sh TMSig_1.1.0.tar.gz /Library/Frameworks/R.framework/Resources/bin/R TMSig.buildbin-libdir StartedAt: 2025-02-09 22:33:41 -0500 (Sun, 09 Feb 2025) EndedAt: 2025-02-09 22:33:52 -0500 (Sun, 09 Feb 2025) EllapsedTime: 10.3 seconds RetCode: 0 Status: OK PackageFile: TMSig_1.1.0.tgz PackageFileSize: 3.47 MiB