Package: TMSig Version: 1.1.0 Command: /Library/Frameworks/R.framework/Resources/bin/R CMD check --install=check:TMSig.install-out.txt --library=/Library/Frameworks/R.framework/Resources/library --no-vignettes --timings TMSig_1.1.0.tar.gz StartedAt: 2025-02-09 21:46:12 -0500 (Sun, 09 Feb 2025) EndedAt: 2025-02-09 21:47:10 -0500 (Sun, 09 Feb 2025) EllapsedTime: 57.8 seconds RetCode: 0 Status: OK CheckDir: TMSig.Rcheck Warnings: 0