Package: TMSig Version: 1.1.0 Command: /Library/Frameworks/R.framework/Resources/bin/R CMD INSTALL TMSig StartedAt: 2025-02-09 15:13:23 -0500 (Sun, 09 Feb 2025) EndedAt: 2025-02-09 15:13:32 -0500 (Sun, 09 Feb 2025) EllapsedTime: 8.4 seconds RetCode: 0 Status: OK