Package: TMSig Version: 1.1.0 Command: /Library/Frameworks/R.framework/Resources/bin/R CMD build --keep-empty-dirs --no-resave-data TMSig StartedAt: 2025-02-04 18:35:42 -0500 (Tue, 04 Feb 2025) EndedAt: 2025-02-04 18:36:36 -0500 (Tue, 04 Feb 2025) EllapsedTime: 53.7 seconds RetCode: 0 Status: OK PackageFile: TMSig_1.1.0.tar.gz PackageFileSize: 3.428 MiB