Package: TMSig Version: 1.1.0 Command: /Library/Frameworks/R.framework/Resources/bin/R CMD check --install=check:TMSig.install-out.txt --library=/Library/Frameworks/R.framework/Resources/library --no-vignettes --timings TMSig_1.1.0.tar.gz StartedAt: 2025-02-04 23:48:12 -0500 (Tue, 04 Feb 2025) EndedAt: 2025-02-04 23:52:32 -0500 (Tue, 04 Feb 2025) EllapsedTime: 260.8 seconds RetCode: 0 Status: OK CheckDir: TMSig.Rcheck Warnings: 0