Package: TMSig Version: 1.1.0 Command: /Library/Frameworks/R.framework/Resources/bin/R CMD INSTALL TMSig StartedAt: 2025-02-04 15:18:34 -0500 (Tue, 04 Feb 2025) EndedAt: 2025-02-04 15:19:02 -0500 (Tue, 04 Feb 2025) EllapsedTime: 28.1 seconds RetCode: 0 Status: OK