Package: TMSig Version: 1.1.0 Command: /home/biocbuild/bbs-3.21-bioc/R/bin/R CMD build --keep-empty-dirs --no-resave-data TMSig StartedAt: 2025-02-09 19:37:07 -0500 (Sun, 09 Feb 2025) EndedAt: 2025-02-09 19:37:55 -0500 (Sun, 09 Feb 2025) EllapsedTime: 48.1 seconds RetCode: 0 Status: OK PackageFile: TMSig_1.1.0.tar.gz PackageFileSize: 3.863 MiB