Package: TMSig Version: 1.1.0 Command: /home/biocbuild/bbs-3.21-bioc/R/bin/R CMD INSTALL TMSig StartedAt: 2025-02-09 15:28:58 -0500 (Sun, 09 Feb 2025) EndedAt: 2025-02-09 15:29:19 -0500 (Sun, 09 Feb 2025) EllapsedTime: 20.7 seconds RetCode: 0 Status: OK