Package: TMSig Version: 1.1.0 Command: rm -rf TMSig.buildbin-libdir && mkdir TMSig.buildbin-libdir && E:\biocbuild\bbs-3.21-bioc\R\bin\R.exe CMD INSTALL --build --library=TMSig.buildbin-libdir TMSig_1.1.0.tar.gz StartedAt: 2025-02-05 09:05:59 -0500 (Wed, 05 Feb 2025) EndedAt: 2025-02-05 09:06:28 -0500 (Wed, 05 Feb 2025) EllapsedTime: 29.1 seconds RetCode: 0 Status: OK PackageFile: TMSig_1.1.0.zip PackageFileSize: 2.63 MiB