Package: TMSig Version: 1.1.0 Command: E:\biocbuild\bbs-3.21-bioc\R\bin\R.exe CMD check --no-multiarch --install=check:TMSig.install-out.txt --library=E:\biocbuild\bbs-3.21-bioc\R\library --no-vignettes --timings TMSig_1.1.0.tar.gz StartedAt: 2025-02-05 06:37:48 -0500 (Wed, 05 Feb 2025) EndedAt: 2025-02-05 06:40:43 -0500 (Wed, 05 Feb 2025) EllapsedTime: 174.8 seconds RetCode: 0 Status: OK CheckDir: TMSig.Rcheck Warnings: 0