Package: TMSig Version: 1.1.0 Command: E:\biocbuild\bbs-3.21-bioc\R\bin\R.exe CMD INSTALL TMSig StartedAt: 2025-02-04 15:52:17 -0500 (Tue, 04 Feb 2025) EndedAt: 2025-02-04 15:52:44 -0500 (Tue, 04 Feb 2025) EllapsedTime: 27.2 seconds RetCode: 0 Status: OK