Package: TMixClust Version: 1.29.0 Command: rm -rf TMixClust.buildbin-libdir && mkdir TMixClust.buildbin-libdir && /Users/biocbuild/BBS/utils/build-universal.sh TMixClust_1.29.0.tar.gz /Library/Frameworks/R.framework/Resources/bin/R TMixClust.buildbin-libdir StartedAt: 2025-02-09 22:33:41 -0500 (Sun, 09 Feb 2025) EndedAt: 2025-02-09 22:33:44 -0500 (Sun, 09 Feb 2025) EllapsedTime: 3.1 seconds RetCode: 0 Status: OK PackageFile: TMixClust_1.29.0.tgz PackageFileSize: 743.7 KiB