Package: TMixClust Version: 1.29.0 Command: /Library/Frameworks/R.framework/Resources/bin/R CMD build --keep-empty-dirs --no-resave-data TMixClust StartedAt: 2025-02-12 17:49:48 -0500 (Wed, 12 Feb 2025) EndedAt: 2025-02-12 17:50:04 -0500 (Wed, 12 Feb 2025) EllapsedTime: 15.2 seconds RetCode: 0 Status: OK PackageFile: TMixClust_1.29.0.tar.gz PackageFileSize: 508.6 KiB