Package: TMixClust Version: 1.29.0 Command: /Library/Frameworks/R.framework/Resources/bin/R CMD build --keep-empty-dirs --no-resave-data TMixClust StartedAt: 2025-02-09 18:44:18 -0500 (Sun, 09 Feb 2025) EndedAt: 2025-02-09 18:44:50 -0500 (Sun, 09 Feb 2025) EllapsedTime: 32.0 seconds RetCode: 0 Status: OK PackageFile: TMixClust_1.29.0.tar.gz PackageFileSize: 508.8 KiB