Package: TMixClust Version: 1.29.0 Command: /Library/Frameworks/R.framework/Resources/bin/R CMD INSTALL TMixClust StartedAt: 2025-02-09 15:38:33 -0500 (Sun, 09 Feb 2025) EndedAt: 2025-02-09 15:38:41 -0500 (Sun, 09 Feb 2025) EllapsedTime: 8.4 seconds RetCode: 0 Status: OK