Package: TOAST Version: 1.21.0 Command: rm -rf TOAST.buildbin-libdir && mkdir TOAST.buildbin-libdir && /Users/biocbuild/BBS/utils/build-universal.sh TOAST_1.21.0.tar.gz /Library/Frameworks/R.framework/Resources/bin/R TOAST.buildbin-libdir StartedAt: 2025-02-03 23:09:20 -0500 (Mon, 03 Feb 2025) EndedAt: 2025-02-03 23:09:31 -0500 (Mon, 03 Feb 2025) EllapsedTime: 11.2 seconds RetCode: 0 Status: OK PackageFile: TOAST_1.21.0.tgz PackageFileSize: 3.767 MiB