Package: TOAST Version: 1.21.0 Command: /home/biocbuild/R/R/bin/R CMD build --keep-empty-dirs --no-resave-data TOAST StartedAt: 2025-01-28 02:57:18 -0000 (Tue, 28 Jan 2025) EndedAt: 2025-01-28 03:00:51 -0000 (Tue, 28 Jan 2025) EllapsedTime: 213.1 seconds RetCode: 0 Status: OK PackageFile: TOAST_1.21.0.tar.gz PackageFileSize: 3.365 MiB