Package: TOAST Version: 1.21.0 Command: /home/biocbuild/R/R/bin/R CMD INSTALL TOAST StartedAt: 2025-01-29 19:39:34 -0000 (Wed, 29 Jan 2025) EndedAt: 2025-01-29 19:40:09 -0000 (Wed, 29 Jan 2025) EllapsedTime: 35.0 seconds RetCode: 0 Status: OK