Package: TOAST Version: 1.21.0 Command: rm -rf TOAST.buildbin-libdir && mkdir TOAST.buildbin-libdir && /Users/biocbuild/BBS/utils/build-universal.sh TOAST_1.21.0.tar.gz /Library/Frameworks/R.framework/Resources/bin/R TOAST.buildbin-libdir StartedAt: 2025-02-10 01:20:49 -0500 (Mon, 10 Feb 2025) EndedAt: 2025-02-10 01:21:28 -0500 (Mon, 10 Feb 2025) EllapsedTime: 38.3 seconds RetCode: 0 Status: OK PackageFile: TOAST_1.21.0.tgz PackageFileSize: 3.763 MiB