Package: TOAST Version: 1.21.0 Command: /Library/Frameworks/R.framework/Resources/bin/R CMD build --keep-empty-dirs --no-resave-data TOAST StartedAt: 2025-02-03 18:39:32 -0500 (Mon, 03 Feb 2025) EndedAt: 2025-02-03 18:42:03 -0500 (Mon, 03 Feb 2025) EllapsedTime: 150.9 seconds RetCode: 0 Status: OK PackageFile: TOAST_1.21.0.tar.gz PackageFileSize: 3.623 MiB