Package: TOAST Version: 1.21.0 Command: /Library/Frameworks/R.framework/Resources/bin/R CMD check --install=check:TOAST.install-out.txt --library=/Library/Frameworks/R.framework/Resources/library --no-vignettes --timings TOAST_1.21.0.tar.gz StartedAt: 2025-02-10 00:08:51 -0500 (Mon, 10 Feb 2025) EndedAt: 2025-02-10 00:13:56 -0500 (Mon, 10 Feb 2025) EllapsedTime: 304.8 seconds RetCode: 0 Status: OK CheckDir: TOAST.Rcheck Warnings: 0