Package: TOAST Version: 1.21.0 Command: /home/biocbuild/bbs-3.21-bioc/R/bin/R CMD build --keep-empty-dirs --no-resave-data TOAST StartedAt: 2025-02-09 19:37:15 -0500 (Sun, 09 Feb 2025) EndedAt: 2025-02-09 19:39:37 -0500 (Sun, 09 Feb 2025) EllapsedTime: 142.2 seconds RetCode: 0 Status: OK PackageFile: TOAST_1.21.0.tar.gz PackageFileSize: 3.639 MiB