Package: TOAST Version: 1.21.0 Command: /home/biocbuild/bbs-3.21-bioc/R/bin/R CMD check --install=check:TOAST.install-out.txt --library=/home/biocbuild/bbs-3.21-bioc/R/site-library --timings TOAST_1.21.0.tar.gz StartedAt: 2025-02-10 03:25:03 -0500 (Mon, 10 Feb 2025) EndedAt: 2025-02-10 03:32:04 -0500 (Mon, 10 Feb 2025) EllapsedTime: 420.6 seconds RetCode: 0 Status: OK CheckDir: TOAST.Rcheck Warnings: 0