Package: TOAST Version: 1.21.0 Command: /home/biocbuild/bbs-3.21-bioc/R/bin/R CMD INSTALL TOAST StartedAt: 2025-02-09 15:17:42 -0500 (Sun, 09 Feb 2025) EndedAt: 2025-02-09 15:18:08 -0500 (Sun, 09 Feb 2025) EllapsedTime: 25.5 seconds RetCode: 0 Status: OK