Package: TOP Version: 1.7.0 Command: rm -rf TOP.buildbin-libdir && mkdir TOP.buildbin-libdir && /Users/biocbuild/BBS/utils/build-universal.sh TOP_1.7.0.tar.gz /Library/Frameworks/R.framework/Resources/bin/R TOP.buildbin-libdir StartedAt: 2025-02-04 22:35:29 -0500 (Tue, 04 Feb 2025) EndedAt: 2025-02-04 22:35:42 -0500 (Tue, 04 Feb 2025) EllapsedTime: 13.3 seconds RetCode: 0 Status: OK PackageFile: TOP_1.7.0.tgz PackageFileSize: 542 KiB