Package: TOP Version: 1.7.0 Command: /Library/Frameworks/R.framework/Resources/bin/R CMD check --install=check:TOP.install-out.txt --library=/Library/Frameworks/R.framework/Resources/library --no-vignettes --timings TOP_1.7.0.tar.gz StartedAt: 2025-02-04 21:48:18 -0500 (Tue, 04 Feb 2025) EndedAt: 2025-02-04 21:49:37 -0500 (Tue, 04 Feb 2025) EllapsedTime: 79.0 seconds RetCode: 0 Status: OK CheckDir: TOP.Rcheck Warnings: 0