Package: TOP Version: 1.7.0 Command: /home/biocbuild/R/R/bin/R CMD check --install=check:TOP.install-out.txt --library=/home/biocbuild/R/R/site-library --no-vignettes --timings TOP_1.7.0.tar.gz StartedAt: 2025-01-28 16:12:43 -0000 (Tue, 28 Jan 2025) EndedAt: 2025-01-28 16:18:11 -0000 (Tue, 28 Jan 2025) EllapsedTime: 327.4 seconds RetCode: 0 Status: OK CheckDir: TOP.Rcheck Warnings: 0