Package: TOP Version: 1.7.0 Command: /Library/Frameworks/R.framework/Resources/bin/R CMD INSTALL TOP StartedAt: 2025-02-04 15:43:31 -0500 (Tue, 04 Feb 2025) EndedAt: 2025-02-04 15:44:13 -0500 (Tue, 04 Feb 2025) EllapsedTime: 41.7 seconds RetCode: 0 Status: OK