Package: TOP Version: 1.7.0 Command: /home/biocbuild/bbs-3.21-bioc/R/bin/R CMD check --install=check:TOP.install-out.txt --library=/home/biocbuild/bbs-3.21-bioc/R/site-library --timings TOP_1.7.0.tar.gz StartedAt: 2025-02-05 03:32:54 -0500 (Wed, 05 Feb 2025) EndedAt: 2025-02-05 03:37:07 -0500 (Wed, 05 Feb 2025) EllapsedTime: 253.3 seconds RetCode: 0 Status: OK CheckDir: TOP.Rcheck Warnings: 0