Package: TOP Version: 1.7.0 Command: E:\biocbuild\bbs-3.21-bioc\R\bin\R.exe CMD INSTALL TOP StartedAt: 2025-02-09 16:23:58 -0500 (Sun, 09 Feb 2025) EndedAt: 2025-02-09 16:24:35 -0500 (Sun, 09 Feb 2025) EllapsedTime: 36.7 seconds RetCode: 0 Status: OK