Package: TPP Version: 3.35.0 Command: /Library/Frameworks/R.framework/Resources/bin/R CMD check --install=check:TPP.install-out.txt --library=/Library/Frameworks/R.framework/Resources/library --no-vignettes --timings TPP_3.35.0.tar.gz StartedAt: 2025-02-12 21:52:21 -0500 (Wed, 12 Feb 2025) EndedAt: 2025-02-12 21:54:51 -0500 (Wed, 12 Feb 2025) EllapsedTime: 149.9 seconds RetCode: 0 Status: OK CheckDir: TPP.Rcheck Warnings: 0