Package: TPP Version: 3.35.0 Command: /home/biocbuild/R/R/bin/R CMD build --keep-empty-dirs --no-resave-data TPP StartedAt: 2025-01-28 02:58:19 -0000 (Tue, 28 Jan 2025) EndedAt: 2025-01-28 03:00:14 -0000 (Tue, 28 Jan 2025) EllapsedTime: 115.1 seconds RetCode: 0 Status: OK PackageFile: TPP_3.35.0.tar.gz PackageFileSize: 8.427 MiB