Package: TPP Version: 3.35.0 Command: /home/biocbuild/bbs-3.21-bioc/R/bin/R CMD check --install=check:TPP.install-out.txt --library=/home/biocbuild/bbs-3.21-bioc/R/site-library --timings TPP_3.35.0.tar.gz StartedAt: 2025-02-13 03:26:29 -0500 (Thu, 13 Feb 2025) EndedAt: 2025-02-13 03:35:37 -0500 (Thu, 13 Feb 2025) EllapsedTime: 547.8 seconds RetCode: 0 Status: OK CheckDir: TPP.Rcheck Warnings: 0