Package: TPP Version: 3.35.0 Command: /home/biocbuild/bbs-3.21-bioc/R/bin/R CMD INSTALL TPP StartedAt: 2025-02-12 15:13:25 -0500 (Wed, 12 Feb 2025) EndedAt: 2025-02-12 15:13:39 -0500 (Wed, 12 Feb 2025) EllapsedTime: 13.6 seconds RetCode: 0 Status: OK