Package: TPP Version: 3.35.0 Command: E:\biocbuild\bbs-3.21-bioc\R\bin\R.exe CMD check --no-multiarch --install=check:TPP.install-out.txt --library=E:\biocbuild\bbs-3.21-bioc\R\library --no-vignettes --timings TPP_3.35.0.tar.gz StartedAt: 2025-02-10 06:15:53 -0500 (Mon, 10 Feb 2025) EndedAt: 2025-02-10 06:28:37 -0500 (Mon, 10 Feb 2025) EllapsedTime: 764.0 seconds RetCode: 0 Status: OK CheckDir: TPP.Rcheck Warnings: 0