Package: TPP Version: 3.35.0 Command: E:\biocbuild\bbs-3.21-bioc\R\bin\R.exe CMD INSTALL TPP StartedAt: 2025-02-09 16:04:19 -0500 (Sun, 09 Feb 2025) EndedAt: 2025-02-09 16:05:52 -0500 (Sun, 09 Feb 2025) EllapsedTime: 93.5 seconds RetCode: 0 Status: OK